BEGIN:VCALENDAR
VERSION:2.0
PRODID:-//SCMEA Choral Division - ECPv6.15.20//NONSGML v1.0//EN
CALSCALE:GREGORIAN
METHOD:PUBLISH
X-ORIGINAL-URL:https://choraldivision.org
X-WR-CALDESC:Events for SCMEA Choral Division
REFRESH-INTERVAL;VALUE=DURATION:PT1H
X-Robots-Tag:noindex
X-PUBLISHED-TTL:PT1H
BEGIN:VTIMEZONE
TZID:America/New_York
BEGIN:DAYLIGHT
TZOFFSETFROM:-0500
TZOFFSETTO:-0400
TZNAME:EDT
DTSTART:20220313T070000
END:DAYLIGHT
BEGIN:STANDARD
TZOFFSETFROM:-0400
TZOFFSETTO:-0500
TZNAME:EST
DTSTART:20221106T060000
END:STANDARD
BEGIN:DAYLIGHT
TZOFFSETFROM:-0500
TZOFFSETTO:-0400
TZNAME:EDT
DTSTART:20230312T070000
END:DAYLIGHT
BEGIN:STANDARD
TZOFFSETFROM:-0400
TZOFFSETTO:-0500
TZNAME:EST
DTSTART:20231105T060000
END:STANDARD
BEGIN:DAYLIGHT
TZOFFSETFROM:-0500
TZOFFSETTO:-0400
TZNAME:EDT
DTSTART:20240310T070000
END:DAYLIGHT
BEGIN:STANDARD
TZOFFSETFROM:-0400
TZOFFSETTO:-0500
TZNAME:EST
DTSTART:20241103T060000
END:STANDARD
BEGIN:DAYLIGHT
TZOFFSETFROM:-0500
TZOFFSETTO:-0400
TZNAME:EDT
DTSTART:20250309T070000
END:DAYLIGHT
BEGIN:STANDARD
TZOFFSETFROM:-0400
TZOFFSETTO:-0500
TZNAME:EST
DTSTART:20251102T060000
END:STANDARD
BEGIN:DAYLIGHT
TZOFFSETFROM:-0500
TZOFFSETTO:-0400
TZNAME:EDT
DTSTART:20260308T070000
END:DAYLIGHT
BEGIN:STANDARD
TZOFFSETFROM:-0400
TZOFFSETTO:-0500
TZNAME:EST
DTSTART:20261101T060000
END:STANDARD
BEGIN:DAYLIGHT
TZOFFSETFROM:-0500
TZOFFSETTO:-0400
TZNAME:EDT
DTSTART:20270314T070000
END:DAYLIGHT
BEGIN:STANDARD
TZOFFSETFROM:-0400
TZOFFSETTO:-0500
TZNAME:EST
DTSTART:20271107T060000
END:STANDARD
END:VTIMEZONE
BEGIN:VEVENT
DTSTART;VALUE=DATE:20260205
DTEND;VALUE=DATE:20260208
DTSTAMP:20260420T032902
CREATED:20250718T020828Z
LAST-MODIFIED:20250718T020828Z
UID:1194-1770249600-1770508799@choraldivision.org
SUMMARY:SCMEA Professional Development Conference
DESCRIPTION:
URL:https://choraldivision.org/event/scmea-professional-development-conference/
LOCATION:Columbia Metropolitan Convention Center\, 1101 Lincoln St.\, Columbia\, SC\, 29201\, United States
CATEGORIES:Professional Development
ORGANIZER;CN="William Bennett":MAILTO:william.bennett@choraldivision.org
END:VEVENT
BEGIN:VEVENT
DTSTART;VALUE=DATE:20250905
DTEND;VALUE=DATE:20250907
DTSTAMP:20260420T032902
CREATED:20250718T014756Z
LAST-MODIFIED:20250903T222549Z
UID:1165-1757030400-1757203199@choraldivision.org
SUMMARY:Choral Arts
DESCRIPTION:Friday\, Sep 5\, 2025 \n6:00 PM on-Site Registration Opens- Lobby of USC Music Dept. \n6:00pm – 6:30 – Committee round-table with the Choral Division Leadership \n6:30 PM – 7:30 Choral Division Committee Meetings. \n7:30- 9:00 PM WORKSHOP 1 – Dr. Shannon Jeffreys – Why Renaissance Music is Great for Your Choral Program. \n9:00pm – Meet and greet with Dr. Jeffreys and network with colleagues at a local restaurant (Location TBD) \n  \nSaturday\, Sep 7\, 2024 \n8:30 AM Registration Opens/Light Breakfast Lobby of USC Music Dept. \n9:00-9:30 AM Choral Division Tips and Trips for keeping up with important division information \nRoom 006 (Choir Room) \n9:30-10:30 am – “Acing the All State Audition” – Tips for preparing students for the SCMEA All State and SC ACDA auditions. – Middle School/High School Break Out Sessions \n10:30 – 10:45 – Break \n10:45 AM -11:45 PM WORKSHOP 2 – Dr Shannon Jeffreys – Passion\, Precision\, and Pedagogy: A Conductor’s Approach to Building Leaders \n11:45 – 12:30 PM SCMEA Fall Business Meeting
URL:https://choraldivision.org/event/choral-arts/
LOCATION:University of South Carolina School of Music\, 813 Assembly St.\, Columbia\, SC\, 29208\, United States
CATEGORIES:Professional Development
ORGANIZER;CN="William Bennett":MAILTO:william.bennett@choraldivision.org
END:VEVENT
BEGIN:VEVENT
DTSTART;VALUE=DATE:20250902
DTEND;VALUE=DATE:20250903
DTSTAMP:20260420T032902
CREATED:20250718T014523Z
LAST-MODIFIED:20250718T014523Z
UID:1157-1756771200-1756857599@choraldivision.org
SUMMARY:Choral Arts Registration Deadline
DESCRIPTION:
URL:https://choraldivision.org/event/choral-arts-registration-deadline/
CATEGORIES:Deadline,Professional Development
ORGANIZER;CN="William Bennett":MAILTO:william.bennett@choraldivision.org
END:VEVENT
BEGIN:VEVENT
DTSTART;VALUE=DATE:20240906
DTEND;VALUE=DATE:20240908
DTSTAMP:20260420T032902
CREATED:20220824T131851Z
LAST-MODIFIED:20240802T181127Z
UID:140-1725580800-1725753599@choraldivision.org
SUMMARY:Choral Arts Seminar
DESCRIPTION:  \nDr. Jeremy Mims is Associate Professor of Music and Director of Choral Activities at Winthrop University. Previously he was on the faculties of Clarke University and Whitman College\, where he conducted the choirs and orchestra. He was also a public school educator in El Paso\, TX. \n A musician of multiple talents and diversity\, Jeremy has appeared on national and international concert and opera stages as a conductor\, collaborative pianist\, violinist\, and a tenor chorister. An active clinician and collaborative pianist\, Mims has served as conductor and pianist for numerous high school all-region and all-state choirs\, as well for professional and university choruses. He conducted the Winthrop Choirs in a performance at Carnegie Hall in 2018. In 2022\, he received second place for the Dale Warland Award in Choral Conducting for his role as artistic director of Inspirar\, his community choir in South Carolina. In addition\, the Winthrop Chamber Singers and Inspirar both received third place in their categories in choral performance for the American Prize in 2022. Twice he has served as the pianist and associate director at the Prague Choral Festival. In 2023\, he conducted concerts in Bulgaria\, as part of the Varna International Festival. His ensembles have performed at numerous music conventions. \n Mims has presented at regional and national conventions of the American Choral Directors Association and is currently the President-Elect of the South Carolina chapter. Dr. Mims holds degrees from Hardin-Simmons University and the University of Missouri-Kansas City Conservatory of Music and Dance. He is the Director of Music at Grace Lutheran Church in Rock Hill\, SC\, where he directs the choirs and serves as pianist and organist. Mims is also Artistic Director of Caritas A Cappella Ensemble in Charlotte. \n  \nCHORAL ARTS SEMINAR \nSeptember 6-7\, 2024 \nPresented by \nSouth Carolina Music Educators Association Choral Division \nUSC School of Music \nUniversity of South Carolina \n813 Assembly St. \nColumbia\, SC 29208 \n  \nSeminar Schedule \nFriday\, Sep 6\, 2024 \n6:00 PM on-Site Registration Opens- Lobby of USC Music Dept. \n6:30 PM Choral Division Individual Committee Meetings. Rooms available: 006\, 016\, 107\, 201\, 210\, 213\, 214\, 215\, and 232. \n7:30- 9:00 PM WORKSHOP 1– Dr. Jeremy Mims \nRoom 006 (Choir Room) \n  \nSaturday\, Sep 7\, 2024 \n8:30 AM Registration Opens/Light Breakfast Lobby of USC Music Dept. \n9:00-9:20 AM Choral Division Tips and Trips for keeping up with important division information \nRoom 006 (Choir Room) \n9:25-10:20 am WORKSHOP 2– Dr. Jeremy Mims\, Rm 206 (Recital Hall) \n10:25-10:55 am  Middle School/High School Break Out Sessions  \n11:00 AM -12:00 PM WORKSHOP 3– Dr. Jeremy Mims \nRoom 206 (Recital Hall) \n12:15 PM SCMEA Fall Business Meeting  \nRoom 206 (Recital Hall)
URL:https://choraldivision.org/event/choral-arts-seminar/
LOCATION:University of South Carolina School of Music\, 813 Assembly St.\, Columbia\, SC\, 29208\, United States
CATEGORIES:Professional Development
END:VEVENT
BEGIN:VEVENT
DTSTART;VALUE=DATE:20240615
DTEND;VALUE=DATE:20240616
DTSTAMP:20260420T032902
CREATED:20230803T152508Z
LAST-MODIFIED:20230816T155511Z
UID:780-1718409600-1718495999@choraldivision.org
SUMMARY:SCMEA Presentation Submission Deadline
DESCRIPTION:
URL:https://choraldivision.org/event/scmea-presentation-submission-deadline/
CATEGORIES:Deadline,Professional Development
END:VEVENT
BEGIN:VEVENT
DTSTART;VALUE=DATE:20240601
DTEND;VALUE=DATE:20240602
DTSTAMP:20260420T032902
CREATED:20230803T152415Z
LAST-MODIFIED:20230803T152415Z
UID:778-1717200000-1717286399@choraldivision.org
SUMMARY:SCMEA Performance Submission Deadline
DESCRIPTION:
URL:https://choraldivision.org/event/scmea-performance-submission-deadline/
CATEGORIES:Deadline,Professional Development
END:VEVENT
BEGIN:VEVENT
DTSTART;VALUE=DATE:20240210
DTEND;VALUE=DATE:20240211
DTSTAMP:20260420T032903
CREATED:20230610T012849Z
LAST-MODIFIED:20230610T012849Z
UID:623-1707523200-1707609599@choraldivision.org
SUMMARY:Choral Division Business Meeting
DESCRIPTION:
URL:https://choraldivision.org/event/choral-division-business-meeting/
LOCATION:Columbia Metropolitan Convention Center\, 1101 Lincoln St.\, Columbia\, SC\, 29201\, United States
CATEGORIES:Professional Development
END:VEVENT
BEGIN:VEVENT
DTSTART;VALUE=DATE:20240208
DTEND;VALUE=DATE:20240211
DTSTAMP:20260420T032903
CREATED:20230610T012749Z
LAST-MODIFIED:20230610T012749Z
UID:621-1707350400-1707609599@choraldivision.org
SUMMARY:SCMEA
DESCRIPTION:
URL:https://choraldivision.org/event/scmea/
LOCATION:Columbia Metropolitan Convention Center\, 1101 Lincoln St.\, Columbia\, SC\, 29201\, United States
CATEGORIES:Professional Development
END:VEVENT
BEGIN:VEVENT
DTSTART;VALUE=DATE:20230601
DTEND;VALUE=DATE:20230602
DTSTAMP:20260420T032903
CREATED:20220824T143143Z
LAST-MODIFIED:20220824T143143Z
UID:212-1685577600-1685663999@choraldivision.org
SUMMARY:Deadline: SCMEA Performance Submission
DESCRIPTION:
URL:https://choraldivision.org/event/deadline-scmea-performance-submission/
CATEGORIES:Deadline,Professional Development
END:VEVENT
BEGIN:VEVENT
DTSTART;VALUE=DATE:20230202
DTEND;VALUE=DATE:20230205
DTSTAMP:20260420T032903
CREATED:20220824T134536Z
LAST-MODIFIED:20220824T134536Z
UID:172-1675296000-1675555199@choraldivision.org
SUMMARY:SCMEA In-Service Conference
DESCRIPTION:
URL:https://choraldivision.org/event/scmea-in-service-conference/
LOCATION:Columbia Metropolitan Convention Center\, 1101 Lincoln St.\, Columbia\, SC\, 29201\, United States
CATEGORIES:Professional Development
END:VEVENT
END:VCALENDAR