BEGIN:VCALENDAR
VERSION:2.0
PRODID:-//SCMEA Choral Division - ECPv6.15.20//NONSGML v1.0//EN
CALSCALE:GREGORIAN
METHOD:PUBLISH
X-ORIGINAL-URL:https://choraldivision.org
X-WR-CALDESC:Events for SCMEA Choral Division
REFRESH-INTERVAL;VALUE=DURATION:PT1H
X-Robots-Tag:noindex
X-PUBLISHED-TTL:PT1H
BEGIN:VTIMEZONE
TZID:America/New_York
BEGIN:DAYLIGHT
TZOFFSETFROM:-0500
TZOFFSETTO:-0400
TZNAME:EDT
DTSTART:20240310T070000
END:DAYLIGHT
BEGIN:STANDARD
TZOFFSETFROM:-0400
TZOFFSETTO:-0500
TZNAME:EST
DTSTART:20241103T060000
END:STANDARD
BEGIN:DAYLIGHT
TZOFFSETFROM:-0500
TZOFFSETTO:-0400
TZNAME:EDT
DTSTART:20250309T070000
END:DAYLIGHT
BEGIN:STANDARD
TZOFFSETFROM:-0400
TZOFFSETTO:-0500
TZNAME:EST
DTSTART:20251102T060000
END:STANDARD
BEGIN:DAYLIGHT
TZOFFSETFROM:-0500
TZOFFSETTO:-0400
TZNAME:EDT
DTSTART:20260308T070000
END:DAYLIGHT
BEGIN:STANDARD
TZOFFSETFROM:-0400
TZOFFSETTO:-0500
TZNAME:EST
DTSTART:20261101T060000
END:STANDARD
END:VTIMEZONE
BEGIN:VEVENT
DTSTART;VALUE=DATE:20250902
DTEND;VALUE=DATE:20250903
DTSTAMP:20260420T111922
CREATED:20250718T014523Z
LAST-MODIFIED:20250718T014523Z
UID:1157-1756771200-1756857599@choraldivision.org
SUMMARY:Choral Arts Registration Deadline
DESCRIPTION:
URL:https://choraldivision.org/event/choral-arts-registration-deadline/
CATEGORIES:Deadline,Professional Development
ORGANIZER;CN="William Bennett":MAILTO:william.bennett@choraldivision.org
END:VEVENT
BEGIN:VEVENT
DTSTART;VALUE=DATE:20250905
DTEND;VALUE=DATE:20250907
DTSTAMP:20260420T111922
CREATED:20250718T014756Z
LAST-MODIFIED:20250903T222549Z
UID:1165-1757030400-1757203199@choraldivision.org
SUMMARY:Choral Arts
DESCRIPTION:Friday\, Sep 5\, 2025 \n6:00 PM on-Site Registration Opens- Lobby of USC Music Dept. \n6:00pm – 6:30 – Committee round-table with the Choral Division Leadership \n6:30 PM – 7:30 Choral Division Committee Meetings. \n7:30- 9:00 PM WORKSHOP 1 – Dr. Shannon Jeffreys – Why Renaissance Music is Great for Your Choral Program. \n9:00pm – Meet and greet with Dr. Jeffreys and network with colleagues at a local restaurant (Location TBD) \n  \nSaturday\, Sep 7\, 2024 \n8:30 AM Registration Opens/Light Breakfast Lobby of USC Music Dept. \n9:00-9:30 AM Choral Division Tips and Trips for keeping up with important division information \nRoom 006 (Choir Room) \n9:30-10:30 am – “Acing the All State Audition” – Tips for preparing students for the SCMEA All State and SC ACDA auditions. – Middle School/High School Break Out Sessions \n10:30 – 10:45 – Break \n10:45 AM -11:45 PM WORKSHOP 2 – Dr Shannon Jeffreys – Passion\, Precision\, and Pedagogy: A Conductor’s Approach to Building Leaders \n11:45 – 12:30 PM SCMEA Fall Business Meeting
URL:https://choraldivision.org/event/choral-arts/
LOCATION:University of South Carolina School of Music\, 813 Assembly St.\, Columbia\, SC\, 29208\, United States
CATEGORIES:Professional Development
ORGANIZER;CN="William Bennett":MAILTO:william.bennett@choraldivision.org
END:VEVENT
END:VCALENDAR